BEGIN:VCALENDAR
VERSION:2.0
PRODID:-//DTU.dk//NONSGML DTU.dk//EN
CALSCALE:GREGORIAN
BEGIN:VEVENT
DTSTART:20240524T113000Z
DTEND:20240524T143000Z
SUMMARY:PhD defence by Denis Bolotov
X-ALT-DESC;FMTTYPE=text/html:<p><a href='https://electro.dtu.dk/kalenderarkiv/2024/05/phd-defence-by-denis-bolotov'>https://electro.dtu.dk/kalenderarkiv/2024/05/phd-defence-by-denis-bolotov</a></p>Frequency Conversion of Quantum States via Intermodal Bragg Scattering
URL:https://electro.dtu.dk/kalenderarkiv/2024/05/phd-defence-by-denis-bolotov
DTSTAMP:20260422T060600Z
UID:{0A0E7870-F779-4EDF-B7D4-0F2F868BA575}-20240524T113000Z
LOCATION:Building 341, Auditorium 22
END:VEVENT
END:VCALENDAR
